BEGIN:VCALENDAR
VERSION:2.0
CALSCALE:GREGORIAN
PRODID:-//Diputació de Barcelona//DibaCMS//EN
BEGIN:VEVENT
UID:17549
DTSTAMP:20260426T015549
DTSTART:20260201T173000
DTEND:20260201T183000
SUMMARY:Un febrer d'espectacles en família: Companyia 3/4 de 15
LOCATION:Carrer del Compositor Ramon Victori, 4  08504 Sant Julià de Vilatorta
METHOD:PUBLISH
X-WR-CALNAME:sjv.info@vilatorta.cat
X-WR-TIMEZONE:Europe/Madrid
DESCRIPTION:Comencem el cicle d’animació infantil amb 3/4 de 15, una companyia que fa riure, ballar i participar a petits i grans.

Arriben a Sant Julià amb un espectacle ple d’humor, música i moments inesperats. Un format proper i molt participatiu, d’aquells que enganxen des del primer minut i que fan que tota la família s’ho passi d’allò més bé.

URI:https://www.vilatorta.cat/temes/turisme-/un-febrer-despectacles-en-familia-companyia-34-de-15.html
CLASS:PUBLIC
END:VEVENT
END:VCALENDAR
