BEGIN:VCALENDAR
VERSION:2.0
CALSCALE:GREGORIAN
PRODID:-//Diputació de Barcelona//DibaCMS//EN
BEGIN:VEVENT
UID:17550
DTSTAMP:20260426T033519
DTSTART:20260208T173000
DTEND:20260208T183000
SUMMARY: Un febrer d'espectacles en família: Gil Ratataplam
LOCATION:Carrer del Compositor Ramon Victori, 4  08504 Sant Julià de Vilatorta
METHOD:PUBLISH
X-WR-CALNAME:sjv.info@vilatorta.cat
X-WR-TIMEZONE:Europe/Madrid
DESCRIPTION:El segon diumenge del cicle d’animació infantil ens visitarà Gil Ratataplam, un artista que combina humor, música i un munt de situacions inesperades que fan riure tant a petits com a grans.

URI:https://www.vilatorta.cat/temes/turisme-/-un-febrer-despectacles-en-familia-gil-ratataplam.html
CLASS:PUBLIC
END:VEVENT
END:VCALENDAR
