BEGIN:VCALENDAR
VERSION:2.0
CALSCALE:GREGORIAN
PRODID:-//Diputació de Barcelona//DibaCMS//EN
BEGIN:VEVENT
UID:17551
DTSTAMP:20260426T033612
DTSTART:20260215T173000
DTEND:20260215T183000
SUMMARY:Un febrer d'espectacles en família: Jaume Barri
LOCATION:Carrer del Compositor Ramon Victori, 4  08504 Sant Julià de Vilatorta
METHOD:PUBLISH
X-WR-CALNAME:sjv.info@vilatorta.cat
X-WR-TIMEZONE:Europe/Madrid
DESCRIPTION:El tercer diumenge del cicle d’animació infantil ens acompanyarà Jaume Barri, un artista molt estimat pel seu estil proper, divertit i ple de música i participació.

URI:https://www.vilatorta.cat/actualitat/agenda/un-febrer-despectacles-en-familia-jaume-barri.html
CLASS:PUBLIC
END:VEVENT
END:VCALENDAR
