BEGIN:VCALENDAR
VERSION:2.0
CALSCALE:GREGORIAN
PRODID:-//Diputació de Barcelona//DibaCMS//EN
BEGIN:VEVENT
UID:17552
DTSTAMP:20260426T033722
DTSTART:20260222T173000
DTEND:20260222T183000
SUMMARY:Un febrer d'espectacles en família: El show de la Cuca i en Rubens
LOCATION:Carrer del Compositor Ramon Victori, 4  08504 Sant Julià de Vilatorta
METHOD:PUBLISH
X-WR-CALNAME:sjv.info@vilatorta.cat
X-WR-TIMEZONE:Europe/Madrid
DESCRIPTION:El diumenge 22 de febrer posarem punt final al cicle d’animació infantil amb El show de la Cuca i en Rubens, una proposta plena d’energia, humor i participació que farà gaudir tant a infants com a adults.

URI:https://www.vilatorta.cat/temes/turisme-/un-febrer-despectacles-en-familia-el-show-de-la-cuca-i-en-rubens.html
CLASS:PUBLIC
END:VEVENT
END:VCALENDAR
