BEGIN:VCALENDAR
VERSION:2.0
CALSCALE:GREGORIAN
PRODID:-//Diputació de Barcelona//DibaCMS//EN
BEGIN:VEVENT
UID:17726
DTSTAMP:20260421T172316
DTSTART:20260505T090000
DTEND:20260505T110000
SUMMARY:Sessió informativa sobre el Procés de Regularització Extraordinària 2026
LOCATION:Plaça de l'U d'octubre, núm. 2 08504 Sant Julià de Vilatorta
METHOD:PUBLISH
X-WR-CALNAME:sjv.info@vilatorta.cat
X-WR-TIMEZONE:Europe/Madrid
DESCRIPTION:El16/04/2026 s'ha obert el termini per sol·licitar la regularització extraordinària i es podrà realitzar fins al 30/06/2026.

Vine a la Sessió Informativa i t'explicarem el Procediment de Regularització extraordinària 2026!

Dia: 05/05/2026

LLoc: Aula de Cultura

Hora: de 9:30 a 11:00 h.

💻Inscriu-te per venir a la Sessió al formulari: https://forms.cloud.microsoft/e/HL4RLuve8W

La regularització extraordinària és una mesura de justícia social que atorga drets a les persones que ja formen part de la nostra societat, que millora la inclusió social, redueix l'economia submergida i millora la recaptació fiscal.

URI:https://www.vilatorta.cat/actualitat/agenda/17726-sessio-informativa-sobre-el-proces-de-regularitzacio-extraordinaria-2026.html
CLASS:PUBLIC
END:VEVENT
END:VCALENDAR
