BEGIN:VCALENDAR
VERSION:2.0
CALSCALE:GREGORIAN
PRODID:-//Diputació de Barcelona//DibaCMS//EN
BEGIN:VEVENT
UID:3040
DTSTAMP:20260424T113526
DTSTART:20160423T125500
DTEND:20160423T125500
SUMMARY:Diada de Sant Jordi: Actes festius al poble.
LOCATION:
METHOD:PUBLISH
X-WR-CALNAME:sjv.info@vilatorta.cat
X-WR-TIMEZONE:Europe/Madrid
DESCRIPTION:Per Sant Jordi tenim: Parades de roses i llibres. Exposició dedicada a A. Batllori. Presentacions dels llibres “Entrena’ls per cooperar” de Joan Arumí i “A. Batllori Jofré en 100 (+1) dibuixos” de Toni Batllori. Conferència “Cultura, esport i pedagogia” de Conrad Vilanou. Tallers de roses, corones i imants. Castells inflables. Representacions de la llegenda de Sant Jordi. Projecció de la sarsuela “Cançó d’amor i de guerra”... VIU LA DIADA DE SANT JORDI A SANT JULIÀ DE VILATORTA!
URI:https://www.vilatorta.cat/actualitat/agenda/diada-de-sant-jordi-actes-festius-al-poble.html
CLASS:PUBLIC
END:VEVENT
END:VCALENDAR
