BEGIN:VCALENDAR
VERSION:2.0
CALSCALE:GREGORIAN
PRODID:-//Diputació de Barcelona//DibaCMS//EN
BEGIN:VEVENT
UID:3154
DTSTAMP:20260424T145804
DTSTART:20160409T200000
DTEND:20160409T213000
SUMMARY:Concert de Folky Towers 
LOCATION:Carrer del Compositor Ramon Victori, 4  08504 Sant Julià de Vilatorta
METHOD:PUBLISH
X-WR-CALNAME:sjv.info@vilatorta.cat
X-WR-TIMEZONE:Europe/Madrid
DESCRIPTION:El proper dissabte 9 d'abril, a partir de les 8 del vespre al saló Catalunya, es farà el concert de presentació del grup Folky Towers, un nou grup de folk que neix a la comarca d'Osona.
URI:https://www.vilatorta.cat/temes/turisme-/concert-de-folky-towers-.html
CLASS:PUBLIC
END:VEVENT
END:VCALENDAR
