BEGIN:VCALENDAR
VERSION:2.0
CALSCALE:GREGORIAN
PRODID:-//Diputació de Barcelona//DibaCMS//EN
BEGIN:VEVENT
UID:3167
DTSTAMP:20260424T113926
DTSTART:20160417T190000
DTEND:20160417T210000
SUMMARY:Conferència a Sant Julià de Vilatorta. III Jornades de l'Aeròdrom Vilatorta.
LOCATION:Carrer del Compositor Ramon Victori, 4  08504 Sant Julià de Vilatorta
METHOD:PUBLISH
X-WR-CALNAME:sjv.info@vilatorta.cat
X-WR-TIMEZONE:Europe/Madrid
DESCRIPTION:El diumenge 17 d'abril, a partir de les 7 de la tarda al saló Catalunya, es farà la conferència teatralitzada: "Els del 42. 7 testimonis del final de la guerra civil a Osona" basada en les memòries de Lluís Urpinell i Joan. 
URI:https://www.vilatorta.cat/actualitat/agenda/conferencia-a-sant-julia-de-vilatorta-iii-jornades-de-laerodrom-vilatorta.html
CLASS:PUBLIC
END:VEVENT
END:VCALENDAR
