BEGIN:VCALENDAR
VERSION:2.0
CALSCALE:GREGORIAN
PRODID:-//Diputació de Barcelona//DibaCMS//EN
BEGIN:VEVENT
UID:3255
DTSTAMP:20260424T133608
DTSTART:20160521T100000
DTEND:20160521T130000
SUMMARY:Activitats de celebració del Dia Europeu dels parcs
LOCATION:Vilanova de Sau 
METHOD:PUBLISH
X-WR-CALNAME:sjv.info@vilatorta.cat
X-WR-TIMEZONE:Europe/Madrid
DESCRIPTION:L'organització d'aquestes va a càrrec del Consorci de l'Espai Natural de les Guilleries-Savassona.
URI:https://www.vilatorta.cat/actualitat/agenda/2016-05-21-activitats-de-celebracio-del-dia-europeu-dels-parcs.html
CLASS:PUBLIC
END:VEVENT
END:VCALENDAR
