BEGIN:VCALENDAR
VERSION:2.0
CALSCALE:GREGORIAN
PRODID:-//Diputació de Barcelona//DibaCMS//EN
BEGIN:VEVENT
UID:3296
DTSTAMP:20260424T163220
DTSTART:20160521T183000
DTEND:20160519T193000
SUMMARY:Conferència "Més que cistells"
LOCATION:Sala de plens de l'Ajuntament 
METHOD:PUBLISH
X-WR-CALNAME:sjv.info@vilatorta.cat
X-WR-TIMEZONE:Europe/Madrid
DESCRIPTION:A càrrec de Joan Farré, artesà i mestre cisteller. Fa més de 30 anys que treballa per assolir la perfecta simbiosi entre la tècnica tradicional i la innovació del disseny.
URI:https://www.vilatorta.cat/temes/turisme-/2016-05-21-conferencia-mes-que-cistells.html
CLASS:PUBLIC
END:VEVENT
END:VCALENDAR
