BEGIN:VCALENDAR
VERSION:2.0
CALSCALE:GREGORIAN
PRODID:-//Diputació de Barcelona//DibaCMS//EN
BEGIN:VEVENT
UID:4335
DTSTAMP:20260421T101717
DTSTART:20171210T180000
DTEND:20171210T210000
SUMMARY:25è Concert de Nadal de l'Agrupació Sardanista
LOCATION:
METHOD:PUBLISH
X-WR-CALNAME:sjv.info@vilatorta.cat
X-WR-TIMEZONE:Europe/Madrid
DESCRIPTION:Aquest acte de l'Agrupació Sardanista serà el diumenge 10 de desembre a les 6 de la tarda al Saló Catalunya. La Flama de Farners dirigida per Jordi Molina serà l’encarregada de fer el 25è Concert de Nadal.
URI:https://www.vilatorta.cat/temes/turisme-/25e-concert-de-nadal-de-lagrupacio-sardanista.html
CLASS:PUBLIC
END:VEVENT
END:VCALENDAR
