BEGIN:VCALENDAR
VERSION:2.0
CALSCALE:GREGORIAN
PRODID:-//Diputació de Barcelona//DibaCMS//EN
BEGIN:VEVENT
UID:4431
DTSTAMP:20260421T125445
DTSTART:20180120T120000
DTEND:20180120T210000
SUMMARY:Partits de bàsquet del cap de setmana
LOCATION:
METHOD:PUBLISH
X-WR-CALNAME:sjv.info@vilatorta.cat
X-WR-TIMEZONE:Europe/Madrid
DESCRIPTION:Ja podeu consultar els partits que jugarà el CE Vilatorta durant el proper cap de setmana
URI:https://www.vilatorta.cat/actualitat/agenda/2018-01-20-partits-de-basquet-del-cap-de-setmana.html
CLASS:PUBLIC
END:VEVENT
END:VCALENDAR
