BEGIN:VCALENDAR
VERSION:2.0
CALSCALE:GREGORIAN
PRODID:-//Diputació de Barcelona//DibaCMS//EN
BEGIN:VEVENT
UID:4480
DTSTAMP:20260421T110803
DTSTART:20180215T200000
DTEND:20180215T213000
SUMMARY:Assemblea Oberta del CDR
LOCATION:Carrer del Compositor Ramon Victori, 4  08504 Sant Julià de Vilatorta
METHOD:PUBLISH
X-WR-CALNAME:sjv.info@vilatorta.cat
X-WR-TIMEZONE:Europe/Madrid
DESCRIPTION:El CDR de Sant Julià de Vilatorta informa que la seva assemblea oberta serà avui dijous 15 de febrer a les vuit del vespre al Saló Catalunya. Es fa en dijous per no coincidir amb la xerrada de seguretat que s'ha organitzat el divendres a les vuit.
URI:https://www.vilatorta.cat/actualitat/agenda/assemblea-oberta-del-cdr.html
CLASS:PUBLIC
END:VEVENT
END:VCALENDAR
