BEGIN:VCALENDAR
VERSION:2.0
CALSCALE:GREGORIAN
PRODID:-//Diputació de Barcelona//DibaCMS//EN
BEGIN:VEVENT
UID:4565
DTSTAMP:20260421T145540
DTSTART:20180407T091500
DTEND:20180408T210000
SUMMARY:Partits de bàsquet del cap de setmana
LOCATION:Av. Sant Lllorenç, 80 08504 Sant Julià de Vilatorta
METHOD:PUBLISH
X-WR-CALNAME:sjv.info@vilatorta.cat
X-WR-TIMEZONE:Europe/Madrid
DESCRIPTION:Ja podeu consultar els partits que jugarà el CE Vilatorta durant el proper cap de setmana. Els partits que es juguin a Sant Julià tindran lloc a  la pista poliesportiva, ja que el pavelló municipal estarà preparat per l'aplec caramellaire
URI:https://www.vilatorta.cat/actualitat/agenda/2018-04-07-partits-de-basquet-del-cap-de-setmana.html
CLASS:PUBLIC
END:VEVENT
END:VCALENDAR
