BEGIN:VCALENDAR
VERSION:2.0
CALSCALE:GREGORIAN
PRODID:-//Diputació de Barcelona//DibaCMS//EN
BEGIN:VEVENT
UID:4625
DTSTAMP:20260419T170103
DTSTART:20180518T210000
DTEND:20180518T230000
SUMMARY:Obra de teatre: El mètode Grönholm
LOCATION:Carrer del Compositor Ramon Victori, 4  08504 Sant Julià de Vilatorta
METHOD:PUBLISH
X-WR-CALNAME:sjv.info@vilatorta.cat
X-WR-TIMEZONE:Europe/Madrid
DESCRIPTION:L'obra de Jordi Galceran, serà representada per Joan Casulleras, Marta Bigas, Jofre Bardolet i Maria Oriol. Aquest divendres 18 de maig a les 9 del vespre al Saló Catalunya. L'entrada tindrà un cost de 3 euros.
URI:https://www.vilatorta.cat/temes/turisme-/obra-de-teatre-el-metode-gronholm.html
CLASS:PUBLIC
END:VEVENT
END:VCALENDAR
