BEGIN:VCALENDAR
VERSION:2.0
CALSCALE:GREGORIAN
PRODID:-//Diputació de Barcelona//DibaCMS//EN
BEGIN:VEVENT
UID:4743
DTSTAMP:20260421T163814
DTSTART:20220719T190000
DTEND:20220719T200000
SUMMARY:Masterclass de body pump [Festa Major 2022]
LOCATION:Plaça de Catalunya 
METHOD:PUBLISH
X-WR-CALNAME:sjv.info@vilatorta.cat
X-WR-TIMEZONE:Europe/Madrid
DESCRIPTION:Fitpauness organitza aquesta masterclass, el dimarts 19 de juliol, a partir de les 7 de la tarda. Inscripcions a fitpauness@live.com o al telèfon 670283397

URI:https://www.vilatorta.cat/actualitat/agenda/masterclass-de-body-pump-festa-major-2022.html
CLASS:PUBLIC
END:VEVENT
END:VCALENDAR
