BEGIN:VCALENDAR
VERSION:2.0
CALSCALE:GREGORIAN
PRODID:-//Diputació de Barcelona//DibaCMS//EN
BEGIN:VEVENT
UID:4861
DTSTAMP:20260419T212753
DTSTART:20180829T103000
DTEND:20180829T210000
SUMMARY:Torneig de bàsquet: Trofeu Albert Tobal
LOCATION:Avinguda de Sant Llorenç, 80 08504 Sant Julià de Vilatorta
METHOD:PUBLISH
X-WR-CALNAME:sjv.info@vilatorta.cat
X-WR-TIMEZONE:Europe/Madrid
DESCRIPTION:Trofeu de la categoria cadet masculí, que es juga el dimecres 29 d'agost, des de dos quarts d'onze del matí fins a dos quarts de vuit del vespre. Enguany els equips que participen del torneig són: Joventut, Manresa, Sant Josep Badalona i Granollers.
URI:https://www.vilatorta.cat/actualitat/agenda/2018-08-29-torneig-de-basquet-trofeu-albert-tobal.html
CLASS:PUBLIC
END:VEVENT
END:VCALENDAR
